BEGIN:VCALENDAR
VERSION:2.0
PRODID:-//wp-events-plugin.com//7.2.2.1//EN
BEGIN:VEVENT
UID:1228@a-plusdriving.com
DTSTART;TZID=America/New_York:20260101T000000
DTEND;TZID=America/New_York:20261231T000000
DTSTAMP:20260127T153003Z
URL:https://a-plusdriving.com/events/we-do-offer-onlinedrivers-manual-cour
 se-3-times-test-failure-at-dmv-2/
SUMMARY:**WE DO OFFER ONLINE**Drivers Manual Course (3 times test failure a
 t DMV)
DESCRIPTION:Under 18- you may take this course but you must have completed 
 drivers education classroom instruction and we will need a copy of the cer
 tificate of completion and a copy of your identification.\n\n18 & Older- 
 we will need a copy of your identification before we can send you the link
  to get started. Please call the office if you have any questions 540-288-
 1117.\n\nAll Credit Card transactions will have a 3% convenience fee.
CATEGORIES:Drivers Manual Course
END:VEVENT
BEGIN:VTIMEZONE
TZID:America/New_York
X-LIC-LOCATION:America/New_York
BEGIN:STANDARD
DTSTART:20251102T010000
TZOFFSETFROM:-0400
TZOFFSETTO:-0500
TZNAME:EST
END:STANDARD
BEGIN:DAYLIGHT
DTSTART:20260308T030000
TZOFFSETFROM:-0500
TZOFFSETTO:-0400
TZNAME:EDT
END:DAYLIGHT
BEGIN:STANDARD
DTSTART:20261101T010000
TZOFFSETFROM:-0400
TZOFFSETTO:-0500
TZNAME:EST
END:STANDARD
END:VTIMEZONE
END:VCALENDAR