BEGIN:VCALENDAR
VERSION:2.0
PRODID:-//wp-events-plugin.com//7.2.2.1//EN
BEGIN:VEVENT
UID:1288@a-plusdriving.com
DTSTART;TZID=America/New_York:20260427T143000
DTEND;TZID=America/New_York:20260503T143000
DTSTAMP:20260401T192833Z
URL:https://a-plusdriving.com/events/behind-the-wheel-caroline-high-school
 -pick-up-drop-off-and-or-caroline-area-9/
SUMMARY:Behind The Wheel  "Caroline High School Pick Up & Drop Off and/or C
 aroline Area
DESCRIPTION:The dates typically run Monday to Sunday. I apologize but the w
 ebsite does not allow me to put various times therefore it just states 12a
 m. The students are NOT going out at 12am.
CATEGORIES:Behind the wheel
END:VEVENT
BEGIN:VTIMEZONE
TZID:America/New_York
X-LIC-LOCATION:America/New_York
BEGIN:DAYLIGHT
DTSTART:20260308T030000
TZOFFSETFROM:-0500
TZOFFSETTO:-0400
TZNAME:EDT
END:DAYLIGHT
END:VTIMEZONE
END:VCALENDAR